BEGIN:VCALENDAR
VERSION:2.0
PRODID:-//wp-events-plugin.com//7.0.0.1//EN
BEGIN:VEVENT
UID:23@shfbpartneragencies.org
DTSTART;VALUE=DATE:20261210
DTEND;VALUE=DATE:20261211
DTSTAMP:20260303T174646Z
URL:https://shfbpartneragencies.org/calendar/reminder-statistics-are-due-9
 /
SUMMARY:Reminder: Statistics are Due!
DESCRIPTION:Please submit your statistics by the end of day on the 10th of 
 each month for the month prior. Timely reporting is important to keep your
  agency compliant and our numbers up to date. Thank you for your help!
CATEGORIES:Reminders
END:VEVENT
END:VCALENDAR